BEGIN:VCALENDAR
VERSION:2.0
PRODID:-//Africa Hyperscalers News - ECPv6.15.20//NONSGML v1.0//EN
CALSCALE:GREGORIAN
METHOD:PUBLISH
X-ORIGINAL-URL:https://convergenceafrica.hyperscalers.news
X-WR-CALDESC:Events for Africa Hyperscalers News
REFRESH-INTERVAL;VALUE=DURATION:PT1H
X-Robots-Tag:noindex
X-PUBLISHED-TTL:PT1H
BEGIN:VTIMEZONE
TZID:UTC
BEGIN:STANDARD
TZOFFSETFROM:+0000
TZOFFSETTO:+0000
TZNAME:UTC
DTSTART:20240101T000000
END:STANDARD
END:VTIMEZONE
BEGIN:VEVENT
DTSTART;TZID=UTC:20250922T080000
DTEND;TZID=UTC:20250923T150000
DTSTAMP:20260420T115042
CREATED:20250518T003717Z
LAST-MODIFIED:20250518T003717Z
UID:8149-1758528000-1758639600@convergenceafrica.hyperscalers.news
SUMMARY:Connectivities\, Collaborations\, and Convergence
DESCRIPTION:The theme “Building a Digital Africa: Connectivities\, Collaborations\, Convergence” underscores the essential pillars driving Africa’s digital transformation.
URL:https://convergenceafrica.hyperscalers.news/event/connectivities-collaborations-and-convergence/
ORGANIZER;CN="The Hyperscalers":MAILTO:projects@hyperscalers.news
END:VEVENT
BEGIN:VEVENT
DTSTART;TZID=UTC:20260129T110000
DTEND;TZID=UTC:20260129T170000
DTSTAMP:20260420T115042
CREATED:20260126T105403Z
LAST-MODIFIED:20260126T105403Z
UID:11373-1769684400-1769706000@convergenceafrica.hyperscalers.news
SUMMARY:Vertiv AI Infrastructure Solutions Webinar
DESCRIPTION:Kick off the new year with a game-changing virtual gathering designed exclusively for West Africa’s enterprise technology leaders. This exclusive webinar brings together CIOs\, IT decision-makers\, and infrastructure experts from the region’s most critical sectors including banking\, oil & gas\, mining\, telecommunications\, manufacturing\, and beyond—to explore the infrastructure foundations required for successful AI transformation.
URL:https://convergenceafrica.hyperscalers.news/event/vertiv-ai-infrastructure-solutions-webinar/
LOCATION:Virtual
END:VEVENT
BEGIN:VEVENT
DTSTART;TZID=UTC:20260216T110000
DTEND;TZID=UTC:20260216T170000
DTSTAMP:20260420T115042
CREATED:20260126T105207Z
LAST-MODIFIED:20260126T105207Z
UID:11371-1771239600-1771261200@convergenceafrica.hyperscalers.news
SUMMARY:Digital Infrastructure Outlook 2026
DESCRIPTION:Africa is entering a decisive phase in its digital journey. Across the continent\, governments and industry leaders are announcing broadband expansion plans\, data center pipelines\, cloud strategies\, and AI roadmaps at unprecedented speed. Yet a persistent gap remains between ambition and reality – between what is declared and what is actually built\, financed\, interconnected\, and used. \nThe Digital Infrastructure Outlook 2026 is designed as a reality check. This high-level virtual session convenes policymakers\, regulators\, infrastructure operators\, investors\, and demand-side platforms to examine the hard foundations required to support Africa’s digital economy at scale. It moves beyond forecasts and announcements to focus on execution economics: what gets financed\, what gets delayed\, what gets stranded\, and what ultimately gets built.
URL:https://convergenceafrica.hyperscalers.news/event/digital-infrastructure-outlook-2026/
LOCATION:Virtual
END:VEVENT
END:VCALENDAR